{"text_format":"1","workbook":"xlsx","n_sheets":7,"sheets":["CE1","C12","C11","MODULO","INICIO ","CE2","TABLA ENTRADA DE DATOS"],"not_rendered":{"charts":0,"images":6,"macros":1,"external_links":0,"defined_names":0,"comments":0,"pivot_tables":0},"unopened":[],"bounds":{"document_bytes":16777216,"sheet_cells":100000,"rows_first":2000,"rows_last":500,"rows_between":2000,"halvings":0,"cell_chars":16384,"cell_head_chars":4096},"cells_cut":0,"cells_raw":0,"read":"whole","date_system":"1900"}

{"sheet":"CE1","index":0,"n_rows":22,"n_cols":31,"rows_kept":22,"cut":false,"hidden":false,"merged":[[1,1,5,11],[20,1,20,3],[21,1,21,3],[11,1,11,3],[12,1,12,3],[13,1,13,3],[14,1,14,3],[15,1,15,3],[17,9,17,11],[18,9,18,11],[19,9,19,11],[20,9,20,11],[10,1,10,3],[10,9,10,11],[11,9,11,11],[12,9,12,11],[13,25,13,26],[9,24,9,25],[17,1,17,3],[9,1,9,5],[11,13,15,13],[9,9,9,13],[18,1,18,3],[19,1,19,3],[13,9,13,11],[14,9,14,11],[15,9,15,11],[16,9,16,11],[16,1,16,3],[11,5,15,5]]}
[]
[null,"DIMENSÕES DE MAQUINAGEM CONFIGURAÇÕES ESPECIAIS "]
[]
[]
[]
[]
[]
[]
[]
[null,"OPÇÃO  1",null,null,null,null,null,null,null,"OPÇÃO  2",null,null,null,null,null,null,null,null,null,null,null,null,null,null,"DIMENSÕES  MAQUINADAS FRENTES \n(OPÇÃO 1)"]
[null,"1 GAVETA COM H=83 + 4 GAVETAS COM H=93 MAQUINAÇÃO DE FRENTES IGUAIS  ",null,null,"Dimensões maquinadas (mm)","Altura das frentes de gaveta (mm)",null,null,null,"5 GAVETAS COM H=93 FRENTES INFERIORES MAQUINADAS DIFERENTES",null,null,"Dimensões maquinadas (mm)","Altura das frentes de gaveta (mm)",null,null,null,null,null,null,null,null,null,null,"X (mm)","Y (mm)"]
[null,"GAVETA 1 - H1=83",null,null,37,138,null,null,null,"GAVETA 1 - H1=93",null,null,37,138,null,null,null,null,null,null,null,null,null,null,70,30]
[null,"GAVETA 2 - H2=93",null,null,177,null,null,null,null,"GAVETA 2 - H2=93",null,null,163]
[null,"GAVETA 3 - H3=93",null,null,317,null,null,null,null,"GAVETA 3 - H3=93",null,null,303,null,null,null,null,null,null,null,null,null,null,null,null,"DIMENSÕES  MAQUINADAS FRENTES \n(OPÇÃO 2)"]
[null,"GAVETA 4 - H4=93",null,null,457,null,null,null,null,"GAVETA 4 - H4=93",null,null,443,null,null,null,null,null,null,null,null,null,null,null,null,"X (mm)","Y (mm)"]
[null,"GAVETA 5 - H5=93",null,null,597,null,null,null,null,"GAVETA 5 - H5=93",null,null,583,null,null,null,null,null,null,null,null,null,null,null,"GAVETA INFERIOR",70,30]
[null,null,null,null,null,null,null,null,null,null,null,null,null,null,null,null,null,null,null,null,null,null,null,null,"RESTO DAS GAVETAS ",56,30]
[]
[]
[null,null,null,null,null,null,null,null,null,null,null,null,null,null,null,null,null,null,null,null,null,null,null,null,null,null,null,null,null,{"$f":"IF(MODULO!K13>0,(Y12-MODULO!K12),\"\")","v":""},{"$f":"IF(MODULO!K13>0,(15.5+MODULO!K13),\"\")","v":""}]
[]
[null,"TOTAL CAJONES",null,null,{"$f":"COUNT(E12:E21)","v":5}]

{"sheet":"C12","index":1,"n_rows":19,"n_cols":23,"rows_kept":19,"cut":false,"hidden":false,"merged":[[0,4,4,7],[8,4,8,6],[9,4,9,6],[10,4,10,6],[11,4,11,6],[15,21,15,22],[18,4,18,6],[12,4,12,6],[13,4,13,6],[14,4,14,6],[15,4,15,6],[16,4,16,6],[17,4,17,6]]}
[null,null,null,null,"DIMENSÕES DE MAQUINAÇÃO"]
[]
[]
[]
[]
[]
[]
[null,null,null,null,null,null,null,"Dimensões maquinadas(mm)","Altura do frente (mm)"]
[null,null,null,null,"GAVETA 1 - H1",null,null,{"$f":"IF(MODULO!H13>=1,37,\" \")","v":" "},{"$f":"'C11'!I9","v":" "}]
[null,null,null,null,"GAVETA 2 - H2",null,null,{"$f":"IF(MODULO!$H$13>=2,'TABLA ENTRADA DE DATOS'!C17+H9+2,\" \")","v":" "},{"$f":"'C11'!I10","v":" "}]
[null,null,null,null,"GAVETA 3 - H3",null,null,{"$f":"IF(MODULO!$H$13>=3,'TABLA ENTRADA DE DATOS'!C18+H10+2,\" \")","v":" "},{"$f":"'C11'!I11","v":" "}]
[null,null,null,null,"GAVETA 4 - H4",null,null,{"$f":"IF(MODULO!$H$13>=4,'TABLA ENTRADA DE DATOS'!C19+H11+2,\" \")","v":" "},{"$f":"'C11'!I12","v":" "}]
[null,null,null,null,"GAVETA 5 - H5",null,null,{"$f":"IF(MODULO!$H$13>=5,'TABLA ENTRADA DE DATOS'!C20+H12+2,\" \")","v":" "},{"$f":"'C11'!I13","v":" "}]
[null,null,null,null,"GAVETA 6 - H6",null,null,{"$f":"IF(MODULO!$H$13>=6,'TABLA ENTRADA DE DATOS'!C21+H13+2,\" \")","v":" "},{"$f":"'C11'!I14","v":" "}]
[null,null,null,null,"GAVETA 7 - H7",null,null,{"$f":"IF(MODULO!$H$13>=7,'TABLA ENTRADA DE DATOS'!C22+H14+2,\" \")","v":" "},{"$f":"'C11'!I15","v":" "}]
[null,null,null,null,"GAVETA 8 - H8",null,null,{"$f":"IF(MODULO!$H$13>=8,'TABLA ENTRADA DE DATOS'!C23+H15+2,\" \")","v":" "},{"$f":"'C11'!I16","v":" "},null,null,null,null,null,null,null,null,null,null,null,null,"DIMENSIONI DI LAVORAZIONE FRONTAL"]
[null,null,null,null,"GAVETA 9 - H9",null,null,{"$f":"IF(MODULO!$H$13>=9,'TABLA ENTRADA DE DATOS'!C24+H16+2,\" \")","v":" "},{"$f":"'C11'!I17","v":" "},null,null,null,null,null,null,null,null,null,null,null,null,"X \n(mm)","Y\n (mm)"]
[null,null,null,null,"GAVETA 10 - H10",null,null,{"$f":"IF(MODULO!$H$13>=10,'TABLA ENTRADA DE DATOS'!C25+H17+2,\" \")","v":" "},{"$f":"'C11'!I18","v":" "},null,null,null,null,null,null,null,null,null,null,null,null,{"$f":"IF(MODULO!H13>0,(55+MODULO!H11),\"\")","v":""},{"$f":"IF(MODULO!H13>0,(15.5+MODULO!H12),\"\")","v":""}]
[null,null,null,null,"TOTAL CAJONES",null,null,{"$f":"COUNT(H9:H18)","v":0}]

{"sheet":"C11","index":2,"n_rows":19,"n_cols":37,"rows_kept":19,"cut":false,"hidden":false,"merged":[[0,4,4,8],[18,4,18,6],[15,4,15,6],[9,4,9,6],[11,4,11,6],[12,4,12,6],[14,4,14,6],[16,4,16,6],[10,4,10,6],[13,4,13,6],[8,4,8,6],[17,4,17,6]]}
[null,null,null,null,"DADOS DA GAVETA"]
[]
[]
[]
[]
[]
[]
[null,null,null,null,null,null,null,"Altura da gaveta (mm)","Altura do frente (mm)",null,null,null,null,null,null,null,null,null,null,null,null,null,null,null,null,null,null,null,null,null,null,null,null,null,"DATOS CAJÓN FIJOS "]
[null,null,null,null,"GAVETA 1",null,null,null,{"$f":"IF(MODULO!$H$13>=1,'TABLA ENTRADA DE DATOS'!C17,\" \")","v":" "},{"$f":"IF(AND(MODULO!$H$8=700,MODULO!$H$9=16,MODULO!$H$11=15,MODULO!$H$12=15,H9=$AI$11,I9<$AK$11),\"INCOMPATIBILIDADE ENTRE a altura mínima e a altura calculada da margem, tente uma configuração diferente ou contacte o nosso apoio técnico\",IF('TABLA ENTRADA DE DATOS'!$D$31>MODULO!$H$8,\"INCOMPATIBILIDADE ENTRE a altura mínima e a altura calculada da margem, tente uma configuração diferente ou contacte o nosso apoio técnico.\",\"\"))","v":""},null,null,null,null,null,null,null,null,null,null,{"$f":"IF(AND(J9=\"INCOMPATIBILIDADE ENTRE a altura mínima e a altura calculada da margem, tente uma configuração diferente ou contacte o nosso apoio técnico\",MODULO!$H$8=700,MODULO!$H$9=16,MODULO!$H$11=15,MODULO!$H$12=15),W9,\"\")","v":""},null,"INTRUÇÕES: Em caso de \"Incompatibilidade entre a altura mínima e a altura calculada do bordo\", estão disponíveis as seguintes configurações especiais:\n\nMódulo com 5 gavetas Altura da gaveta 93 frente inferior diferente",null,null,null,null,null,null,null,null,null,null,null,"Hcajón","Hint mínima","Hfrontera "]
[null,null,null,null,"GAVETA 2",null,null,null,{"$f":"IF(MODULO!$H$13>=2,'TABLA ENTRADA DE DATOS'!C18,\" \")","v":" "},{"$f":"IF(AND(MODULO!$H$8=700,MODULO!$H$9=16,MODULO!$H$11=15,MODULO!$H$12=15,H10=$AI$11,I10<$AK$11),\"INCOMPATIBILIDADE ENTRE a altura mínima e a altura calculada da margem, tente uma configuração diferente ou contacte o nosso apoio técnico\",IF('TABLA ENTRADA DE DATOS'!$D$31>MODULO!$H$8,\"INCOMPATIBILIDADE ENTRE a altura mínima e a altura calculada da margem, tente uma configuração diferente ou contacte o nosso apoio técnico.\",\"\"))","v":""},null,null,null,null,null,null,null,null,null,null,{"$f":"IF(AND(J10=\"INCOMPATIBILIDADE ENTRE a altura mínima e a altura calculada da margem, tente uma configuração diferente ou contacte o nosso apoio técnico\",MODULO!$H$8=700,MODULO!$H$9=16,MODULO!$H$11=15,MODULO!$H$12=15),W10,\"\")","v":""},null,"Módulo com 1 caixa de altura 83 e 4 caixas de altura 93\n\nPara aceder às mesmas, clique neste texto. Se mesmo estas configurações não corresponderem às suas necessidades, pode tentar outra configuração ou contactar o nosso serviço de assistência técnica. ",null,null,null,null,null,null,null,null,null,null,1,83,101,{"$f":"Tabla110[[#This Row],[Hint mínima]]+(2*MODULO!$H$11)","v":101}]
[null,null,null,null,"GAVETA 3",null,null,null,{"$f":"IF(MODULO!$H$13>=3,'TABLA ENTRADA DE DATOS'!C19,\" \")","v":" "},{"$f":"IF(AND(MODULO!$H$8=700,MODULO!$H$9=16,MODULO!$H$11=15,MODULO!$H$12=15,H11=$AI$11,I11<$AK$11),\"INCOMPATIBILIDADE ENTRE a altura mínima e a altura calculada da margem, tente uma configuração diferente ou contacte o nosso apoio técnico\",IF('TABLA ENTRADA DE DATOS'!$D$31>MODULO!$H$8,\"INCOMPATIBILIDADE ENTRE a altura mínima e a altura calculada da margem, tente uma configuração diferente ou contacte o nosso apoio técnico.\",\"\"))","v":""},null,null,null,null,null,null,null,null,null,null,null,null,null,null,null,null,null,null,null,null,null,null,null,2,93,111,{"$f":"Tabla110[[#This Row],[Hint mínima]]+(2*MODULO!$H$11)","v":111}]
[null,null,null,null,"GAVETA 4",null,null,null,{"$f":"IF(MODULO!$H$13>=4,'TABLA ENTRADA DE DATOS'!C20,\" \")","v":" "},{"$f":"IF(AND(MODULO!$H$8=700,MODULO!$H$9=16,MODULO!$H$11=15,MODULO!$H$12=15,H12=$AI$11,I12<$AK$11),\"INCOMPATIBILIDADE ENTRE a altura mínima e a altura calculada da margem, tente uma configuração diferente ou contacte o nosso apoio técnico\",IF('TABLA ENTRADA DE DATOS'!$D$31>MODULO!$H$8,\"INCOMPATIBILIDADE ENTRE a altura mínima e a altura calculada da margem, tente uma configuração diferente ou contacte o nosso apoio técnico.\",\"\"))","v":""},null,null,null,null,null,null,null,null,null,null,null,null,null,null,null,null,null,null,null,null,null,null,null,3,131,149,{"$f":"Tabla110[[#This Row],[Hint mínima]]+(2*MODULO!$H$11)","v":149}]
[null,null,null,null,"GAVETA 5",null,null,null,{"$f":"IF(MODULO!$H$13>=5,'TABLA ENTRADA DE DATOS'!C21,\" \")","v":" "},{"$f":"IF(AND(MODULO!$H$8=700,MODULO!$H$9=16,MODULO!$H$11=15,MODULO!$H$12=15,H13=$AI$11,I13<$AK$11),\"INCOMPATIBILIDADE ENTRE a altura mínima e a altura calculada da margem, tente uma configuração diferente ou contacte o nosso apoio técnico\",IF('TABLA ENTRADA DE DATOS'!$D$31>MODULO!$H$8,\"INCOMPATIBILIDADE ENTRE a altura mínima e a altura calculada da margem, tente uma configuração diferente ou contacte o nosso apoio técnico.\",\"\"))","v":""},null,null,null,null,null,null,null,null,null,null,null,null,null,null,null,null,null,null,null,null,null,null,null,4,178,196,{"$f":"Tabla110[[#This Row],[Hint mínima]]+(2*MODULO!$H$11)","v":196}]
[null,null,null,null,"GAVETA 6",null,null,null,{"$f":"IF(MODULO!$H$13>=6,'TABLA ENTRADA DE DATOS'!C22,\" \")","v":" "},{"$f":"IF(AND(MODULO!$H$8=700,MODULO!$H$9=16,MODULO!$H$11=15,MODULO!$H$12=15,H14=$AI$11,I14<$AK$11),\"INCOMPATIBILIDADE ENTRE a altura mínima e a altura calculada da margem, tente uma configuração diferente ou contacte o nosso apoio técnico\",IF('TABLA ENTRADA DE DATOS'!$D$31>MODULO!$H$8,\"INCOMPATIBILIDADE ENTRE a altura mínima e a altura calculada da margem, tente uma configuração diferente ou contacte o nosso apoio técnico.\",\"\"))","v":""},null,null,null,null,null,null,null,null,null,null,null,null,null,null,null,null,null,null,null,null,null,null,null,5,242,264,{"$f":"Tabla110[[#This Row],[Hint mínima]]+(2*MODULO!$H$11)","v":264}]
[null,null,null,null,"GAVETA 7",null,null,null,{"$f":"IF(MODULO!$H$13>=7,'TABLA ENTRADA DE DATOS'!C23,\" \")","v":" "},{"$f":"IF(AND(MODULO!$H$8=700,MODULO!$H$9=16,MODULO!$H$11=15,MODULO!$H$12=15,H15=$AI$11,I15<$AK$11),\"INCOMPATIBILIDADE ENTRE a altura mínima e a altura calculada da margem, tente uma configuração diferente ou contacte o nosso apoio técnico\",IF('TABLA ENTRADA DE DATOS'!$D$31>MODULO!$H$8,\"INCOMPATIBILIDADE ENTRE a altura mínima e a altura calculada da margem, tente uma configuração diferente ou contacte o nosso apoio técnico.\",\"\"))","v":""}]
[null,null,null,null,"GAVETA 8",null,null,null,{"$f":"IF(MODULO!$H$13>=8,'TABLA ENTRADA DE DATOS'!C24,\" \")","v":" "},{"$f":"IF(AND(MODULO!$H$8=700,MODULO!$H$9=16,MODULO!$H$11=15,MODULO!$H$12=15,H16=$AI$11,I16<$AK$11),\"INCOMPATIBILIDADE ENTRE a altura mínima e a altura calculada da margem, tente uma configuração diferente ou contacte o nosso apoio técnico\",IF('TABLA ENTRADA DE DATOS'!$D$31>MODULO!$H$8,\"INCOMPATIBILIDADE ENTRE a altura mínima e a altura calculada da margem, tente uma configuração diferente ou contacte o nosso apoio técnico.\",\"\"))","v":""},null,{"$f":"IF(AND(H16=$AI$12,I16<$AK$12),\"INCOMP\",\"\")","v":""}]
[null,null,null,null,"GAVETA 9",null,null,null,{"$f":"IF(MODULO!$H$13>=9,'TABLA ENTRADA DE DATOS'!C25,\" \")","v":" "},{"$f":"IF(AND(MODULO!$H$8=700,MODULO!$H$9=16,MODULO!$H$11=15,MODULO!$H$12=15,H17=$AI$11,I17<$AK$11),\"INCOMPATIBILIDADE ENTRE a altura mínima e a altura calculada da margem, tente uma configuração diferente ou contacte o nosso apoio técnico\",IF('TABLA ENTRADA DE DATOS'!$D$31>MODULO!$H$8,\"INCOMPATIBILIDADE ENTRE a altura mínima e a altura calculada da margem, tente uma configuração diferente ou contacte o nosso apoio técnico.\",\"\"))","v":""}]
[null,null,null,null,"GAVETA 10",null,null,null,{"$f":"IF(MODULO!$H$13>=10,'TABLA ENTRADA DE DATOS'!C26,\" \")","v":" "},{"$f":"IF(AND(MODULO!$H$8=700,MODULO!$H$9=16,MODULO!$H$11=15,MODULO!$H$12=15,H18=$AI$11,I18<$AK$11),\"INCOMPATIBILIDADE ENTRE a altura mínima e a altura calculada da margem, tente uma configuração diferente ou contacte o nosso apoio técnico\",IF('TABLA ENTRADA DE DATOS'!$D$31>MODULO!$H$8,\"INCOMPATIBILIDADE ENTRE a altura mínima e a altura calculada da margem, tente uma configuração diferente ou contacte o nosso apoio técnico.\",\"\"))","v":""},null,""]
[null,null,null,null,"TOTAL CAJONES",null,null,{"$f":"COUNT(H9:H18)","v":0},null,{"$f":"IF(AND($H$9=$AI$10,I19<=$AK$10,$H$9=$AI$11,$I$9<=$AK$11,$H$9=$AI$12,$I$9<=$AK$12,$H$9=$AI$13,$I$9<=$AK$13),\"INCOMP\",\" \")","v":" "},{"$f":"IF(I19<='TABLA ENTRADA DE DATOS'!$C$10,\"INCOMPATIBILIDAD\",\" \")","v":"INCOMPATIBILIDAD"}]

{"sheet":"MODULO","index":3,"n_rows":14,"n_cols":8,"rows_kept":14,"cut":false,"hidden":false,"merged":[[13,7,13,9],[1,3,4,9],[10,7,10,9],[11,7,11,9],[12,7,12,9],[9,7,9,9],[7,7,7,9],[8,7,8,9]]}
[]
[null,null,null,"DATI DO MÓDULO "]
[]
[]
[]
[]
[]
[null,null,null,"Altura total do módulo (mm) H1"]
[null,null,null,"Espessura da placa (mm) E"]
[null,null,null,"Dimensão interior (mm) H2",null,null,null,{"$f":"IF(H8>=1,(H8-(2*H9)),\" \")","v":" "}]
[null,null,null,"Sobreposição inferior/superior (mm) S1"]
[null,null,null,"Sobreposição lateral (mm) S2"]
[null,null,null,"N.º de gavetas",null,null,null,{"$f":"'C11'!$H$19","v":0}]
[null,null,null,"Saração entre gavetas (mm) ",null,null,null,2]

{"sheet":"INICIO ","index":4,"n_rows":0,"n_cols":0,"rows_kept":0,"cut":false,"hidden":false,"merged":[]}

{"sheet":"CE2","index":5,"n_rows":22,"n_cols":8,"rows_kept":22,"cut":false,"hidden":true,"merged":[[21,4,21,6],[1,4,5,7],[11,4,11,6],[12,4,12,6],[13,4,13,6],[14,4,14,6],[15,4,15,6],[16,4,16,6],[17,4,17,6],[18,4,18,6],[19,4,19,6],[20,4,20,6]]}
[]
[null,null,null,null,"COTAS MECANIZADO"]
[]
[]
[]
[]
[]
[]
[]
[]
[null,null,null,null,null,null,null,"COTAS MECANIZADO"]
[null,null,null,null,"CAJÓN 1 - H1",null,null,{"$f":"IF(MODULO!H13>=1,37,\" \")","v":" "}]
[null,null,null,null,"CAJÓN 2 - H2",null,null,{"$f":"IF(MODULO!$H$13>=2,'TABLA ENTRADA DE DATOS'!P19+H12+2,\" \")","v":" "}]
[null,null,null,null,"CAJÓN 3 - H3",null,null,{"$f":"IF(MODULO!$H$13>=3,'TABLA ENTRADA DE DATOS'!P18+H13+2-14,\" \")","v":" "}]
[null,null,null,null,"CAJÓN 4 - H4",null,null,{"$f":"IF(MODULO!$H$13>=4,'TABLA ENTRADA DE DATOS'!C19+H14+2,\" \")","v":" "}]
[null,null,null,null,"CAJÓN 5 - H5",null,null,{"$f":"IF(MODULO!$H$13>=5,'TABLA ENTRADA DE DATOS'!C20+H15+2,\" \")","v":" "}]
[null,null,null,null,"CAJÓN 6 - H6",null,null,{"$f":"IF(MODULO!$H$13>=6,'TABLA ENTRADA DE DATOS'!C21+H16+2,\" \")","v":" "}]
[null,null,null,null,"CAJÓN 7 - H7",null,null,{"$f":"IF(MODULO!$H$13>=7,'TABLA ENTRADA DE DATOS'!C22+H17+2,\" \")","v":" "}]
[null,null,null,null,"CAJÓN 8 - H8",null,null,{"$f":"IF(MODULO!$H$13>=8,'TABLA ENTRADA DE DATOS'!C23+H18+2,\" \")","v":" "}]
[null,null,null,null,"CAJÓN 9 - H9",null,null,{"$f":"IF(MODULO!$H$13>=9,'TABLA ENTRADA DE DATOS'!C24+H19+2,\" \")","v":" "}]
[null,null,null,null,"CAJÓN 10 - H10",null,null,{"$f":"IF(MODULO!$H$13>=10,'TABLA ENTRADA DE DATOS'!C25+H20+2,\" \")","v":" "}]
[null,null,null,null,"TOTAL CAJONES",null,null,{"$f":"COUNT(H12:H21)","v":0}]

{"sheet":"TABLA ENTRADA DE DATOS","index":6,"n_rows":31,"n_cols":16,"rows_kept":31,"cut":false,"hidden":true,"merged":[[0,13,0,15],[1,13,1,15],[14,13,14,15],[6,0,6,2],[14,0,14,2],[1,0,1,2],[1,9,1,11],[0,0,0,2],[0,5,0,7],[0,9,0,11],[1,5,1,7]]}
["CASO 1 CAJONES TODOS IGUALES ",null,null,null,null,"CASO 2 1H83 + 4H93 IGUALES",null,null,null,"CASO 3 5 H93 MECANIZADO CAJÓN INFERIOR DIFERENTE ",null,null,null,"CASO 3 CAJONES  1H93 + 2 H178 EXT, MEC FRENTE SUPERIOR DIFERENTE "]
["DATOS VARIABLES EN FUNCIÓN PT1",null,null,null,null,"DATOS VARIABLE EN FUNCIÓN DE PT1 COMBINACIÓN ESPECIAL ",null,null,null,"DATOS VARIABLES EN FUNCIÓN PT1",null,null,null,"DATOS VARIABLES EN FUNCIÓN PT1"]
["H total ","H a repartir ","Hrepartida/cajón ",null,null,"Htotal","H a repartir ","Hrepartida/ cajón ",null,"H total ","H a repartir ","Hrepartida/cajón ",null,"H total ","H a repartir ","Hrepartida/cajón "]
[{"$f":"MODULO!$H$8","v":0},{"$f":"MODULO!$H$10 -'TABLA ENTRADA DE DATOS'!$A$28+(2*MODULO!$H$11)","v":{"$error":"#VALUE!"}},{"$f":"$B$4/MODULO!$H$13","v":{"$error":"#VALUE!"}},null,null,700,{"$f":"MODULO!H10-$F$27+MODULO!H11","v":{"$error":"#VALUE!"}},{"$f":"$G$4/MODULO!$H$13","v":{"$error":"#VALUE!"}},null,{"$f":"MODULO!$H$8","v":0},{"$f":"MODULO!$H$10 -'TABLA ENTRADA DE DATOS'!$J$27+(2*MODULO!$H$11)","v":{"$error":"#VALUE!"}},{"$f":"$K$4/MODULO!$H$13","v":{"$error":"#VALUE!"}},null,{"$f":"MODULO!$H$8","v":0},{"$f":"MODULO!$H$10 -'TABLA ENTRADA DE DATOS'!$N$27+(2*15)","v":{"$error":"#VALUE!"}},{"$f":"$O$4/MODULO!$H$13","v":{"$error":"#VALUE!"}}]
[null,null,null,null,null,null,null,null,null,null,null,null,null,700,{"$f":"MODULO!$H$10 -'TABLA ENTRADA DE DATOS'!$N$27","v":{"$error":"#VALUE!"}},{"$f":"(Tabla37[[#This Row],[H a repartir ]]-P4)/2","v":{"$error":"#VALUE!"}}]
[]
["DATOS CAJÓN FIJOS "]
["Hcajón ","Hint mínima ","Hfrontera "]
[83,105,{"$f":"Tabla1[[#This Row],[Hint mínima ]]+(2*MODULO!$H$11)","v":105}]
[93,115,{"$f":"Tabla1[[#This Row],[Hint mínima ]]+(2*MODULO!$H$11)","v":115}]
[131,153,{"$f":"Tabla1[[#This Row],[Hint mínima ]]+(2*MODULO!$H$11)","v":153}]
[178,200,{"$f":"Tabla1[[#This Row],[Hint mínima ]]+(2*MODULO!$H$11)","v":200}]
[242,266,{"$f":"Tabla1[[#This Row],[Hint mínima ]]+(2*MODULO!$H$11)","v":266}]
[]
["DATOS VARIABLES EN FINCIÓN PTO.2",null,null,null,null,"DATOS VARIABLES PTO 2 COMINACIÓNES ESPECIALE","Columna1","Columna2",null,"DATOS VARIABLES PTO2 FROTERA INFERIOR DIFERENTE ",null,null,null,"DATOS VARIABLES EN FINCIÓN PTO.2"]
["Hint mínima ","Hint repart.+ solape","H frontera ","Hútil total",null,"Hinterior mínima ","Hint repart +solape","Hfrontera",null,"Hinterior mínima ","Hint repart +solape","Hfrontera",null,"Hint mínima ","Hint repart.+ solape","H frontera "]
[{"$f":"IF('C11'!H9=$A$9,$B$9,IF('C11'!H9=$A$10,$B$10,IF('C11'!H9=$A$11,$B$11,IF('C11'!H9=$A$12,$B$12,IF('C11'!H9=$A$13,$B$13,\"\")))))","v":""},{"$f":"IF('C11'!$H$19>=1,(A17+$C$4),0)","v":0},{"$f":"ROUND(IF(B17>=1,(B17-(MODULO!$H$13-1)*2/MODULO!$H$13),\"\"),0)","v":{"$error":"#VALUE!"}},{"$f":"IF('C11'!H9=$A$9,$C$9,IF('C11'!H9=$A$10,$C$10,IF('C11'!H9=$A$11,$C$11,IF('C11'!H9=$A$12,$C$12,IF('C11'!H9=$A$13,$C$13,\"\")))))","v":""},null,{"$f":"IF('C11'!H9=$A$9,$B$9,IF('C11'!H9=$A$10,$B$10,IF('C11'!H9=$A$11,$B$11,IF('C11'!H117=$A$12,$B$12,0))))","v":0},{"$f":"IF(MODULO!$H$13>=1,(F17+$H$4+10),0)","v":0},{"$f":"ROUND(IF(G17>=1,(G17-1),\"\"),0)","v":{"$error":"#VALUE!"}},null,{"$f":"IF('C11'!H9=$A$9,$B$9,IF('C11'!H9=$A$10,$B$10,IF('C11'!H9=$A$11,$B$11,IF('C11'!H9=$A$12,$B$12,0))))","v":0},{"$f":"IF(MODULO!$H$13>=1,(J17+$L$4),0)","v":0},{"$f":"ROUND(IF(K17>=1,(K17-2),\"\"),0)","v":{"$error":"#VALUE!"}},null,{"$f":"IF('C11'!H9=$A$9,$B$9,IF('C11'!H9=$A$10,$B$10,IF('C11'!H9=$A$11,$B$11,IF('C11'!H9=$A$12,$B$12,0))))","v":0},{"$f":"IF('C11'!$H$19>=1,N17+15.2+1+15-2,0)","v":0},{"$f":"ROUND(IF(O17>=1,(O17-2),\"\"),0)","v":{"$error":"#VALUE!"}}]
[{"$f":"IF('C11'!H10=$A$9,$B$9,IF('C11'!H10=$A$10,$B$10,IF('C11'!H10=$A$11,$B$11,IF('C11'!H10=$A$12,$B$12,IF('C11'!H10=$A$13,$B$13,\"\")))))","v":""},{"$f":"IF('C11'!$H$19>=2,(A18+$C$4),0)","v":0},{"$f":"ROUND(IF(B18>=1,(B18-(MODULO!$H$13-1)*2/MODULO!$H$13),\"\"),0)","v":{"$error":"#VALUE!"}},{"$f":"IF('C11'!H10=$A$9,$C$9,IF('C11'!H10=$A$10,$C$10,IF('C11'!H10=$A$11,$C$11,IF('C11'!H10=$A$12,$C$12,IF('C11'!H10=$A$13,$C$13,\"\")))))","v":""},null,{"$f":"IF('C11'!H10=$A$9,$B$9,IF('C11'!H10=$A$10,$B$10,IF('C11'!H10=$A$11,$B$11,IF('C11'!H118=$A$12,$B$12,0))))","v":0},{"$f":"IF(MODULO!$H$13>=2,(F18+$H$4),0)","v":0},{"$f":"ROUND(IF(G18>=1,(G18-1),\"\"),0)","v":{"$error":"#VALUE!"}},null,{"$f":"IF('C11'!H10=$A$9,$B$9,IF('C11'!H10=$A$10,$B$10,IF('C11'!H10=$A$11,$B$11,IF('C11'!H10=$A$12,$B$12,0))))","v":0},{"$f":"IF(MODULO!$H$13>=2,(J18+$L$4),0)","v":0},{"$f":"ROUND(IF(K18>=1,(K18-2),\"\"),0)","v":{"$error":"#VALUE!"}},null,{"$f":"IF('C11'!H10=$A$9,$B$9,IF('C11'!H10=$A$10,$B$10,IF('C11'!H10=$A$11,$B$11,IF('C11'!H10=$A$12,$B$12,0))))","v":0},{"$f":"IF('C11'!$H$19>=1,(N18+15+71.25-2),0)","v":0},{"$f":"ROUND(IF(O18>=1,(O18-2),\"\"),0)","v":{"$error":"#VALUE!"}}]
[{"$f":"IF('C11'!H11=$A$9,$B$9,IF('C11'!H11=$A$10,$B$10,IF('C11'!H11=$A$11,$B$11,IF('C11'!H11=$A$12,$B$12,IF('C11'!H11=$A$13,$B$13,\"\")))))","v":""},{"$f":"IF('C11'!$H$19>=3,(A19+$C$4),0)","v":0},{"$f":"ROUND(IF(B19>=1,(B19-(MODULO!$H$13-1)*2/MODULO!$H$13),\"\"),0)","v":{"$error":"#VALUE!"}},{"$f":"IF('C11'!H11=$A$9,$C$9,IF('C11'!H11=$A$10,$C$10,IF('C11'!H11=$A$11,$C$11,IF('C11'!H11=$A$12,$C$12,IF('C11'!H11=$A$13,$C$13,\"\")))))","v":""},null,{"$f":"IF('C11'!H11=$A$9,$B$9,IF('C11'!H11=$A$10,$B$10,IF('C11'!H11=$A$11,$B$11,IF('C11'!H119=$A$12,$B$12,0))))","v":0},{"$f":"IF(MODULO!$H$13>=3,(F19+$H$4),0)","v":0},{"$f":"ROUND(IF(G19>=1,(G19-1),\"\"),0)","v":{"$error":"#VALUE!"}},null,{"$f":"IF('C11'!H11=$A$9,$B$9,IF('C11'!H11=$A$10,$B$10,IF('C11'!H11=$A$11,$B$11,IF('C11'!H11=$A$12,$B$12,0))))","v":0},{"$f":"IF(MODULO!$H$13>=3,(J19+$L$4),0)","v":0},{"$error":"#VALUE!"},null,{"$f":"IF('C11'!H11=$A$9,$B$9,IF('C11'!H11=$A$10,$B$10,IF('C11'!H11=$A$11,$B$11,IF('C11'!H11=$A$12,$B$12,0))))","v":0},{"$f":"IF('C11'!$H$19>=1,(N19+15+71.25-2),0)","v":0},{"$f":"ROUND(IF(O19>=1,(O19-2),\"\"),0)","v":{"$error":"#VALUE!"}}]
[{"$f":"IF('C11'!H12=$A$9,$B$9,IF('C11'!H12=$A$10,$B$10,IF('C11'!H12=$A$11,$B$11,IF('C11'!H12=$A$12,$B$12,IF('C11'!H12=$A$13,$B$13,\"\")))))","v":""},{"$f":"IF('C11'!$H$19>=4,(A20+$C$4),0)","v":0},{"$f":"ROUND(IF(B20>=1,(B20-(MODULO!$H$13-1)*2/MODULO!$H$13),\"\"),0)","v":{"$error":"#VALUE!"}},{"$f":"IF('C11'!H12=$A$9,$C$9,IF('C11'!H12=$A$10,$C$10,IF('C11'!H12=$A$11,$C$11,IF('C11'!H12=$A$12,$C$12,IF('C11'!H12=$A$13,$C$13,\"\")))))","v":""},null,{"$f":"IF('C11'!H12=$A$9,$B$9,IF('C11'!H12=$A$10,$B$10,IF('C11'!H12=$A$11,$B$11,IF('C11'!H120=$A$12,$B$12,0))))","v":0},{"$f":"IF(MODULO!$H$13>=4,(F20+$H$4),0)","v":0},{"$f":"ROUND(IF(G20>=1,(G20-1),\"\"),0)","v":{"$error":"#VALUE!"}},null,{"$f":"IF('C11'!H12=$A$9,$B$9,IF('C11'!H12=$A$10,$B$10,IF('C11'!H12=$A$11,$B$11,IF('C11'!H12=$A$12,$B$12,0))))","v":0},{"$f":"IF(MODULO!$H$13>=4,(J20+$L$4),0)","v":0},{"$error":"#VALUE!"},null,{"$f":"IF('C11'!H12=$A$9,$B$9,IF('C11'!H12=$A$10,$B$10,IF('C11'!H12=$A$11,$B$11,IF('C11'!H12=$A$12,$B$12,0))))","v":0},{"$f":"IF('C11'!$H$19>=1,(N20+$P$4-30),0)","v":0},{"$error":"#VALUE!"}]
[{"$f":"IF('C11'!H13=$A$9,$B$9,IF('C11'!H13=$A$10,$B$10,IF('C11'!H13=$A$11,$B$11,IF('C11'!H13=$A$12,$B$12,IF('C11'!H13=$A$13,$B$13,\"\")))))","v":""},{"$f":"IF('C11'!$H$19>=5,(A21+$C$4),0)","v":0},{"$f":"ROUND(IF(B21>=1,(B21-(MODULO!$H$13-1)*2/MODULO!$H$13),\"\"),0)","v":{"$error":"#VALUE!"}},{"$f":"IF('C11'!H13=$A$9,$C$9,IF('C11'!H13=$A$10,$C$10,IF('C11'!H13=$A$11,$C$11,IF('C11'!H13=$A$12,$C$12,IF('C11'!H13=$A$13,$C$13,\"\")))))","v":""},null,{"$f":"IF('C11'!H13=$A$9,$B$9,IF('C11'!H13=$A$10,$B$10,IF('C11'!H13=$A$11,$B$11,IF('C11'!H121=$A$12,$B$12,0))))","v":0},{"$f":"IF(MODULO!$H$13>=5,(F21+$H$4),0)","v":0},{"$f":"ROUND(IF(G21>=1,(G21-1),\"\"),0)","v":{"$error":"#VALUE!"}},null,{"$f":"IF('C11'!H13=$A$9,$B$9,IF('C11'!H13=$A$10,$B$10,IF('C11'!H13=$A$11,$B$11,IF('C11'!H13=$A$12,$B$12,0))))","v":0},{"$f":"IF(MODULO!$H$13>=5,(J21+$L$4),0)","v":0},{"$f":"ROUND(IF(K21>=1,(K21-2),\"\"),0)","v":{"$error":"#VALUE!"}},null,{"$f":"IF('C11'!H13=$A$9,$B$9,IF('C11'!H13=$A$10,$B$10,IF('C11'!H13=$A$11,$B$11,IF('C11'!H13=$A$12,$B$12,0))))","v":0},{"$f":"IF('C11'!$H$19>=1,(N21+$P$4-30),0)","v":0},{"$f":"ROUND(IF(O21>=1,(O21-2),\"\"),0)","v":{"$error":"#VALUE!"}}]
[{"$f":"IF('C11'!H14=$A$9,$B$9,IF('C11'!H14=$A$10,$B$10,IF('C11'!H14=$A$11,$B$11,IF('C11'!H14=$A$12,$B$12,IF('C11'!H14=$A$13,$B$13,\"\")))))","v":""},{"$f":"IF('C11'!$H$19>=6,(A22+$C$4),0)","v":0},{"$f":"ROUND(IF(B22>=1,(B22-(MODULO!$H$13-1)*2/MODULO!$H$13),\"\"),0)","v":{"$error":"#VALUE!"}},{"$f":"IF('C11'!H14=$A$9,$C$9,IF('C11'!H14=$A$10,$C$10,IF('C11'!H14=$A$11,$C$11,IF('C11'!H14=$A$12,$C$12,IF('C11'!H14=$A$13,$C$13,\"\")))))","v":""},null,{"$f":"IF('C11'!H14=$A$9,$B$9,IF('C11'!H14=$A$10,$B$10,IF('C11'!H14=$A$11,$B$11,IF('C11'!H122=$A$12,$B$12,0))))","v":0},{"$f":"IF(MODULO!$H$13>=6,(F22+$H$4+10),0)","v":0},{"$f":"ROUND(IF(G22>=1,(G22-2),\"\"),0)","v":{"$error":"#VALUE!"}},null,{"$f":"IF('C11'!H14=$A$9,$B$9,IF('C11'!H14=$A$10,$B$10,IF('C11'!H14=$A$11,$B$11,IF('C11'!H14=$A$12,$B$12,0))))","v":0},{"$f":"IF(MODULO!$H$13>=6,(J22+$L$4),0)","v":0},{"$error":"#VALUE!"},null,{"$f":"IF('C11'!H14=$A$9,$B$9,IF('C11'!H14=$A$10,$B$10,IF('C11'!H14=$A$11,$B$11,IF('C11'!H14=$A$12,$B$12,0))))","v":0},{"$f":"IF('C11'!$H$19>=1,(N22+$P$4-30),0)","v":0},{"$f":"ROUND(IF(O22>=1,(O22-2),\"\"),0)","v":{"$error":"#VALUE!"}}]
[{"$f":"IF('C11'!H15=$A$9,$B$9,IF('C11'!H15=$A$10,$B$10,IF('C11'!H15=$A$11,$B$11,IF('C11'!H15=$A$12,$B$12,IF('C11'!H15=$A$13,$B$13,\"\")))))","v":""},{"$f":"IF('C11'!$H$19>=7,(A23+$C$4),0)","v":0},{"$f":"ROUND(IF(B23>=1,(B23-(MODULO!$H$13-1)*2/MODULO!$H$13),\"\"),0)","v":{"$error":"#VALUE!"}},{"$f":"IF('C11'!H15=$A$9,$C$9,IF('C11'!H15=$A$10,$C$10,IF('C11'!H15=$A$11,$C$11,IF('C11'!H15=$A$12,$C$12,IF('C11'!H15=$A$13,$C$13,\"\")))))","v":""},null,{"$f":"IF('C11'!H15=$A$9,$B$9,IF('C11'!H15=$A$10,$B$10,IF('C11'!H15=$A$11,$B$11,IF('C11'!H123=$A$12,$B$12,0))))","v":0},{"$f":"IF(MODULO!$H$13>=7,(F23+$H$4+10),0)","v":0},{"$f":"ROUND(IF(G23>=1,(G23-2),\"\"),0)","v":{"$error":"#VALUE!"}},null,{"$f":"IF('C11'!H15=$A$9,$B$9,IF('C11'!H15=$A$10,$B$10,IF('C11'!H15=$A$11,$B$11,IF('C11'!H15=$A$12,$B$12,0))))","v":0},{"$f":"IF(MODULO!$H$13>=7,(J23+$L$4),0)","v":0},{"$f":"ROUND(IF(K23>=1,(K23-2),\"\"),0)","v":{"$error":"#VALUE!"}},null,{"$f":"IF('C11'!H15=$A$9,$B$9,IF('C11'!H15=$A$10,$B$10,IF('C11'!H15=$A$11,$B$11,IF('C11'!H15=$A$12,$B$12,0))))","v":0},{"$f":"IF('C11'!$H$19>=1,(N23+$P$4-30),0)","v":0},{"$f":"ROUND(IF(O23>=1,(O23-2),\"\"),0)","v":{"$error":"#VALUE!"}}]
[{"$f":"IF('C11'!H16=$A$9,$B$9,IF('C11'!H16=$A$10,$B$10,IF('C11'!H16=$A$11,$B$11,IF('C11'!H16=$A$12,$B$12,IF('C11'!H16=$A$13,$B$13,\"\")))))","v":""},{"$f":"IF('C11'!$H$19>=8,(A24+$C$4),0)","v":0},{"$f":"ROUND(IF(B24>=1,(B24-(MODULO!$H$13-1)*2/MODULO!$H$13),\"\"),0)","v":{"$error":"#VALUE!"}},{"$f":"IF('C11'!H16=$A$9,$C$9,IF('C11'!H16=$A$10,$C$10,IF('C11'!H16=$A$11,$C$11,IF('C11'!H16=$A$12,$C$12,IF('C11'!H16=$A$13,$C$13,\"\")))))","v":""},null,{"$f":"IF('C11'!H16=$A$9,$B$9,IF('C11'!H16=$A$10,$B$10,IF('C11'!H16=$A$11,$B$11,IF('C11'!H124=$A$12,$B$12,0))))","v":0},{"$f":"IF(MODULO!$H$13>=8,(F24+$H$4+10),0)","v":0},{"$error":"#VALUE!"},null,{"$f":"IF('C11'!H16=$A$9,$B$9,IF('C11'!H16=$A$10,$B$10,IF('C11'!H16=$A$11,$B$11,IF('C11'!H16=$A$12,$B$12,0))))","v":0},{"$f":"IF(MODULO!$H$13>=8,(J24+$L$4),0)","v":0},{"$error":"#VALUE!"},null,{"$f":"IF('C11'!H16=$A$9,$B$9,IF('C11'!H16=$A$10,$B$10,IF('C11'!H16=$A$11,$B$11,IF('C11'!H16=$A$12,$B$12,0))))","v":0},{"$f":"IF('C11'!$H$19>=1,(N24+$P$4-30),0)","v":0},{"$error":"#VALUE!"}]
[{"$f":"IF('C11'!H17=$A$9,$B$9,IF('C11'!H17=$A$10,$B$10,IF('C11'!H17=$A$11,$B$11,IF('C11'!H17=$A$12,$B$12,IF('C11'!H17=$A$13,$B$13,\"\")))))","v":""},{"$f":"IF('C11'!$H$19>=9,(A25+$C$4),0)","v":0},{"$f":"ROUND(IF(B25>=1,(B25-(MODULO!$H$13-1)*2/MODULO!$H$13),\"\"),0)","v":{"$error":"#VALUE!"}},{"$f":"IF('C11'!H17=$A$9,$C$9,IF('C11'!H17=$A$10,$C$10,IF('C11'!H17=$A$11,$C$11,IF('C11'!H17=$A$12,$C$12,IF('C11'!H17=$A$13,$C$13,\"\")))))","v":""},null,{"$f":"IF('C11'!H17=$A$9,$B$9,IF('C11'!H17=$A$10,$B$10,IF('C11'!H17=$A$11,$B$11,IF('C11'!H125=$A$12,$B$12,0))))","v":0},{"$f":"IF(MODULO!$H$13>=9,(F25+$H$4+10),0)","v":0},{"$error":"#VALUE!"},null,{"$f":"IF('C11'!H17=$A$9,$B$9,IF('C11'!H17=$A$10,$B$10,IF('C11'!H17=$A$11,$B$11,IF('C11'!H17=$A$12,$B$12,0))))","v":0},{"$f":"IF(MODULO!$H$13>=9,(J25+$L$4),0)","v":0},{"$error":"#VALUE!"},null,{"$f":"IF('C11'!H17=$A$9,$B$9,IF('C11'!H17=$A$10,$B$10,IF('C11'!H17=$A$11,$B$11,IF('C11'!H17=$A$12,$B$12,0))))","v":0},{"$f":"IF('C11'!$H$19>=1,(N25+$P$4-30),0)","v":0},{"$error":"#VALUE!"}]
[{"$f":"IF('C11'!H18=$A$9,$B$9,IF('C11'!H18=$A$10,$B$10,IF('C11'!H18=$A$11,$B$11,IF('C11'!H18=$A$12,$B$12,IF('C11'!H18=$A$13,$B$13,\"\")))))","v":""},{"$f":"IF('C11'!$H$19>=10,(A26+$C$4),0)","v":0},{"$f":"ROUND(IF(B26>=1,(B26-(MODULO!$H$13-1)*2/MODULO!$H$13),\"\"),0)","v":{"$error":"#VALUE!"}},{"$f":"IF('C11'!H18=$A$9,$C$9,IF('C11'!H18=$A$10,$C$10,IF('C11'!H18=$A$11,$C$11,IF('C11'!H18=$A$12,$C$12,IF('C11'!H18=$A$13,$C$13,\"\")))))","v":""},null,{"$f":"IF('C11'!H18=$A$9,$B$9,IF('C11'!H18=$A$10,$B$10,IF('C11'!H18=$A$11,$B$11,IF('C11'!H126=$A$12,$B$12,0))))","v":0},{"$f":"IF(MODULO!$H$13>=10,(F26+$H$4+10),0)","v":0},{"$error":"#VALUE!"},null,{"$f":"IF('C11'!H18=$A$9,$B$9,IF('C11'!H18=$A$10,$B$10,IF('C11'!H18=$A$11,$B$11,IF('C11'!H18=$A$12,$B$12,0))))","v":0},{"$f":"IF(MODULO!$H$13>=10,(J26+$L$4),0)","v":0},{"$error":"#VALUE!"},null,{"$f":"IF('C11'!H18=$A$9,$B$9,IF('C11'!H18=$A$10,$B$10,IF('C11'!H18=$A$11,$B$11,IF('C11'!H18=$A$12,$B$12,0))))","v":0},{"$f":"IF('C11'!$H$19>=1,(N26+$P$4-30),0)","v":0},{"$error":"#VALUE!"}]
[{"$f":"IF('C11'!H19=$A$9,$B$9,IF('C11'!H19=$A$10,$B$10,IF('C11'!H19=$A$11,$B$11,IF('C11'!H19=$A$12,$B$12,IF('C11'!H19=$A$13,$B$13,\"\")))))","v":""},{"$f":"IF('C11'!$H$19>=1,(A27+$C$4),0)","v":0},{"$f":"ROUND(IF(B27>=1,(B27-(MODULO!$H$13-1)*2/MODULO!$H$13),\"\"),0)","v":{"$error":"#VALUE!"}},{"$f":"IF('C11'!H19=$A$9,$C$9,IF('C11'!H19=$A$10,$C$10,IF('C11'!H19=$A$11,$C$11,IF('C11'!H19=$A$12,$C$12,IF('C11'!H19=$A$13,$C$13,\"\")))))","v":""},null,{"$f":"SUM(F17:F26)","v":0},null,null,null,{"$f":"SUM(J17:J26)","v":0},null,null,null,{"$f":"SUM(Tabla28[[Hint mínima ]])","v":0}]
[{"$f":"SUM(Tabla2[[Hint mínima ]])","v":0}]
[]
[{"$f":"Tabla2[[#Totals],[Hint mínima ]]","v":0}]
[null,null,null,{"$f":"SUM(Tabla2[Hútil total])","v":0}]